BEGIN:VCALENDAR
VERSION:2.0
PRODID:-//SCHULE KIRCHBERG AN DER PIELACH - ECPv6.15.17.1//NONSGML v1.0//EN
CALSCALE:GREGORIAN
METHOD:PUBLISH
X-ORIGINAL-URL:https://schule-kirchberg.at
X-WR-CALDESC:Veranstaltungen für SCHULE KIRCHBERG AN DER PIELACH
REFRESH-INTERVAL;VALUE=DURATION:PT1H
X-Robots-Tag:noindex
X-PUBLISHED-TTL:PT1H
BEGIN:VTIMEZONE
TZID:Europe/Vienna
BEGIN:DAYLIGHT
TZOFFSETFROM:+0100
TZOFFSETTO:+0200
TZNAME:CEST
DTSTART:20230326T010000
END:DAYLIGHT
BEGIN:STANDARD
TZOFFSETFROM:+0200
TZOFFSETTO:+0100
TZNAME:CET
DTSTART:20231029T010000
END:STANDARD
BEGIN:DAYLIGHT
TZOFFSETFROM:+0100
TZOFFSETTO:+0200
TZNAME:CEST
DTSTART:20240331T010000
END:DAYLIGHT
BEGIN:STANDARD
TZOFFSETFROM:+0200
TZOFFSETTO:+0100
TZNAME:CET
DTSTART:20241027T010000
END:STANDARD
BEGIN:DAYLIGHT
TZOFFSETFROM:+0100
TZOFFSETTO:+0200
TZNAME:CEST
DTSTART:20250330T010000
END:DAYLIGHT
BEGIN:STANDARD
TZOFFSETFROM:+0200
TZOFFSETTO:+0100
TZNAME:CET
DTSTART:20251026T010000
END:STANDARD
END:VTIMEZONE
BEGIN:VEVENT
DTSTART;VALUE=DATE:20240629
DTEND;VALUE=DATE:20240903
DTSTAMP:20260420T102328
CREATED:20240301T110714Z
LAST-MODIFIED:20240301T110714Z
UID:6712-1719648000-1725263999@schule-kirchberg.at
SUMMARY:Sommerferien
DESCRIPTION:
URL:https://schule-kirchberg.at/event/sommerferien/
CATEGORIES:ALLE
END:VEVENT
BEGIN:VEVENT
DTSTART;TZID=Europe/Vienna:20240902T080000
DTEND;TZID=Europe/Vienna:20240902T150500
DTSTAMP:20260420T102328
CREATED:20240215T103005Z
LAST-MODIFIED:20240301T111142Z
UID:6653-1725264000-1725289500@schule-kirchberg.at
SUMMARY:Schulbeginn (SJ2024/25)
DESCRIPTION:
URL:https://schule-kirchberg.at/event/pfingstferien-2/
CATEGORIES:ALLE
END:VEVENT
END:VCALENDAR