BEGIN:VCALENDAR
VERSION:2.0
PRODID:-//SCHULE KIRCHBERG AN DER PIELACH - ECPv6.15.17.1//NONSGML v1.0//EN
CALSCALE:GREGORIAN
METHOD:PUBLISH
X-WR-CALNAME:SCHULE KIRCHBERG AN DER PIELACH
X-ORIGINAL-URL:https://schule-kirchberg.at
X-WR-CALDESC:Veranstaltungen für SCHULE KIRCHBERG AN DER PIELACH
REFRESH-INTERVAL;VALUE=DURATION:PT1H
X-Robots-Tag:noindex
X-PUBLISHED-TTL:PT1H
BEGIN:VTIMEZONE
TZID:Europe/Vienna
BEGIN:DAYLIGHT
TZOFFSETFROM:+0100
TZOFFSETTO:+0200
TZNAME:CEST
DTSTART:20220327T010000
END:DAYLIGHT
BEGIN:STANDARD
TZOFFSETFROM:+0200
TZOFFSETTO:+0100
TZNAME:CET
DTSTART:20221030T010000
END:STANDARD
BEGIN:DAYLIGHT
TZOFFSETFROM:+0100
TZOFFSETTO:+0200
TZNAME:CEST
DTSTART:20230326T010000
END:DAYLIGHT
BEGIN:STANDARD
TZOFFSETFROM:+0200
TZOFFSETTO:+0100
TZNAME:CET
DTSTART:20231029T010000
END:STANDARD
BEGIN:DAYLIGHT
TZOFFSETFROM:+0100
TZOFFSETTO:+0200
TZNAME:CEST
DTSTART:20240331T010000
END:DAYLIGHT
BEGIN:STANDARD
TZOFFSETFROM:+0200
TZOFFSETTO:+0100
TZNAME:CET
DTSTART:20241027T010000
END:STANDARD
END:VTIMEZONE
BEGIN:VEVENT
DTSTART;VALUE=DATE:20230701
DTEND;VALUE=DATE:20230904
DTSTAMP:20260425T192340
CREATED:20220623T145125Z
LAST-MODIFIED:20220623T145125Z
UID:1851-1688198400-1693785599@schule-kirchberg.at
SUMMARY:Hauptferien
DESCRIPTION:schulfrei
URL:https://schule-kirchberg.at/event/hauptferien/
CATEGORIES:ALLE
END:VEVENT
BEGIN:VEVENT
DTSTART;VALUE=DATE:20230904
DTEND;VALUE=DATE:20230905
DTSTAMP:20260425T192340
CREATED:20220623T145213Z
LAST-MODIFIED:20220901T080110Z
UID:1853-1693814400-1693820700@schule-kirchberg.at
SUMMARY:Beginn des Schuljahres 2023/24
DESCRIPTION:
URL:https://schule-kirchberg.at/event/beginn-des-schuljahres-2023-24/
CATEGORIES:ALLE
END:VEVENT
BEGIN:VEVENT
DTSTART;TZID=Europe/Vienna:20230906T073000
DTEND;TZID=Europe/Vienna:20230906T130500
DTSTAMP:20260425T192340
CREATED:20230629T180529Z
LAST-MODIFIED:20230629T180529Z
UID:5777-1693985400-1694005500@schule-kirchberg.at
SUMMARY:Wandertag Mittelschule
DESCRIPTION:
URL:https://schule-kirchberg.at/event/wandertag-mittelschule/
CATEGORIES:MS
END:VEVENT
BEGIN:VEVENT
DTSTART;TZID=Europe/Vienna:20230913T173000
DTEND;TZID=Europe/Vienna:20230913T200000
DTSTAMP:20260425T192340
CREATED:20230629T180915Z
LAST-MODIFIED:20230629T180915Z
UID:5779-1694626200-1694635200@schule-kirchberg.at
SUMMARY:Klassenforum Mittelschule 1a
DESCRIPTION:Klassenforum 17:30 – 19:00 \nim Anschluss 19:00 – 20:00 Info-Vortrag der Polizei „Click & Check“ – Sicherheit im Netz (für die Schüler*innen finden die Workshops im Laufe des Schuljahres statt)
URL:https://schule-kirchberg.at/event/klassenforum-mittelschule-1a/
CATEGORIES:MS
END:VEVENT
BEGIN:VEVENT
DTSTART;TZID=Europe/Vienna:20230913T180000
DTEND;TZID=Europe/Vienna:20230913T200000
DTSTAMP:20260425T192340
CREATED:20230629T181309Z
LAST-MODIFIED:20240215T095917Z
UID:5783-1694628000-1694635200@schule-kirchberg.at
SUMMARY:Klassenforen Mittelschule 2a und 2b
DESCRIPTION:Klassenforum 18:00 – 19:00 im Anschluss 19:00 – 20:00 Info-Vortrag der Polizei „Click & Check“ – Sicherheit im Netz (für die Schüler*innen finden die Workshops im Laufe des Schuljahres statt)
URL:https://schule-kirchberg.at/event/klassenforen-mittelschule-2a-und-2b/
CATEGORIES:MS
END:VEVENT
BEGIN:VEVENT
DTSTART;TZID=Europe/Vienna:20230914T180000
DTEND;TZID=Europe/Vienna:20230914T200000
DTSTAMP:20260425T192340
CREATED:20230629T181424Z
LAST-MODIFIED:20240215T095925Z
UID:5786-1694714400-1694721600@schule-kirchberg.at
SUMMARY:Klassenforen Mittelschule 3. und 4. Klassen
DESCRIPTION:Klassenforum 18:00 – 19:00 im Anschluss 19:00 – 20:00 Info-Vortrag der Polizei „Click & Check“ – Sicherheit im Netz (für die Schüler*innen finden die Workshops im Laufe des Schuljahres statt)
URL:https://schule-kirchberg.at/event/klassenforen-mittelschule-3-und-4-klassen/
CATEGORIES:MS
END:VEVENT
BEGIN:VEVENT
DTSTART;TZID=Europe/Vienna:20230920T180000
DTEND;TZID=Europe/Vienna:20230920T190000
DTSTAMP:20260425T192340
CREATED:20230629T181520Z
LAST-MODIFIED:20240215T095933Z
UID:5789-1695232800-1695236400@schule-kirchberg.at
SUMMARY:Schulforum Mittelschule
DESCRIPTION:
URL:https://schule-kirchberg.at/event/schulforum-mittelschule/
CATEGORIES:MS
END:VEVENT
END:VCALENDAR