BEGIN:VCALENDAR
VERSION:2.0
PRODID:-//SCHULE KIRCHBERG AN DER PIELACH - ECPv6.15.17.1//NONSGML v1.0//EN
CALSCALE:GREGORIAN
METHOD:PUBLISH
X-ORIGINAL-URL:https://schule-kirchberg.at
X-WR-CALDESC:Veranstaltungen für SCHULE KIRCHBERG AN DER PIELACH
REFRESH-INTERVAL;VALUE=DURATION:PT1H
X-Robots-Tag:noindex
X-PUBLISHED-TTL:PT1H
BEGIN:VTIMEZONE
TZID:Europe/Vienna
BEGIN:DAYLIGHT
TZOFFSETFROM:+0100
TZOFFSETTO:+0200
TZNAME:CEST
DTSTART:20220327T010000
END:DAYLIGHT
BEGIN:STANDARD
TZOFFSETFROM:+0200
TZOFFSETTO:+0100
TZNAME:CET
DTSTART:20221030T010000
END:STANDARD
BEGIN:DAYLIGHT
TZOFFSETFROM:+0100
TZOFFSETTO:+0200
TZNAME:CEST
DTSTART:20230326T010000
END:DAYLIGHT
BEGIN:STANDARD
TZOFFSETFROM:+0200
TZOFFSETTO:+0100
TZNAME:CET
DTSTART:20231029T010000
END:STANDARD
BEGIN:DAYLIGHT
TZOFFSETFROM:+0100
TZOFFSETTO:+0200
TZNAME:CEST
DTSTART:20240331T010000
END:DAYLIGHT
BEGIN:STANDARD
TZOFFSETFROM:+0200
TZOFFSETTO:+0100
TZNAME:CET
DTSTART:20241027T010000
END:STANDARD
END:VTIMEZONE
BEGIN:VEVENT
DTSTART;VALUE=DATE:20230608
DTEND;VALUE=DATE:20230609
DTSTAMP:20260426T053313
CREATED:20220623T145004Z
LAST-MODIFIED:20220623T145004Z
UID:1849-1686211200-1686268799@schule-kirchberg.at
SUMMARY:Fronleichnam
DESCRIPTION:schulfrei
URL:https://schule-kirchberg.at/event/fronleichnam/
CATEGORIES:ALLE
END:VEVENT
BEGIN:VEVENT
DTSTART;VALUE=DATE:20230609
DTEND;VALUE=DATE:20230610
DTSTAMP:20260426T053313
CREATED:20220927T074607Z
LAST-MODIFIED:20220927T074734Z
UID:4359-1686297600-1686297600@schule-kirchberg.at
SUMMARY:Schulautonom frei
DESCRIPTION:
URL:https://schule-kirchberg.at/event/schulautonom-frei-3/
CATEGORIES:ALLE
END:VEVENT
BEGIN:VEVENT
DTSTART;TZID=Europe/Vienna:20230619T080000
DTEND;TZID=Europe/Vienna:20230623T170000
DTSTAMP:20260426T053313
CREATED:20221213T091659Z
LAST-MODIFIED:20230310T071421Z
UID:4973-1687161600-1687539600@schule-kirchberg.at
SUMMARY:MS Sommersportwoche 4. Klassen
DESCRIPTION:
URL:https://schule-kirchberg.at/event/ms-sommersportwoche-4-klassen/
LOCATION:Wagrain
CATEGORIES:MS
END:VEVENT
BEGIN:VEVENT
DTSTART;TZID=Europe/Vienna:20230629T080000
DTEND;TZID=Europe/Vienna:20230629T100000
DTSTAMP:20260426T053313
CREATED:20230310T071841Z
LAST-MODIFIED:20230310T071841Z
UID:5299-1688025600-1688032800@schule-kirchberg.at
SUMMARY:Schulschlussgottesdienst
DESCRIPTION:
URL:https://schule-kirchberg.at/event/schulschlussgottesdienst/
CATEGORIES:ALLE
END:VEVENT
BEGIN:VEVENT
DTSTART;VALUE=DATE:20230701
DTEND;VALUE=DATE:20230904
DTSTAMP:20260426T053313
CREATED:20220623T145125Z
LAST-MODIFIED:20220623T145125Z
UID:1851-1688198400-1693785599@schule-kirchberg.at
SUMMARY:Hauptferien
DESCRIPTION:schulfrei
URL:https://schule-kirchberg.at/event/hauptferien/
CATEGORIES:ALLE
END:VEVENT
END:VCALENDAR