BEGIN:VCALENDAR
VERSION:2.0
PRODID:-//SCHULE KIRCHBERG AN DER PIELACH - ECPv6.15.17.1//NONSGML v1.0//EN
CALSCALE:GREGORIAN
METHOD:PUBLISH
X-ORIGINAL-URL:https://schule-kirchberg.at
X-WR-CALDESC:Veranstaltungen für SCHULE KIRCHBERG AN DER PIELACH
REFRESH-INTERVAL;VALUE=DURATION:PT1H
X-Robots-Tag:noindex
X-PUBLISHED-TTL:PT1H
BEGIN:VTIMEZONE
TZID:Europe/Vienna
BEGIN:DAYLIGHT
TZOFFSETFROM:+0100
TZOFFSETTO:+0200
TZNAME:CEST
DTSTART:20220327T010000
END:DAYLIGHT
BEGIN:STANDARD
TZOFFSETFROM:+0200
TZOFFSETTO:+0100
TZNAME:CET
DTSTART:20221030T010000
END:STANDARD
BEGIN:DAYLIGHT
TZOFFSETFROM:+0100
TZOFFSETTO:+0200
TZNAME:CEST
DTSTART:20230326T010000
END:DAYLIGHT
BEGIN:STANDARD
TZOFFSETFROM:+0200
TZOFFSETTO:+0100
TZNAME:CET
DTSTART:20231029T010000
END:STANDARD
BEGIN:DAYLIGHT
TZOFFSETFROM:+0100
TZOFFSETTO:+0200
TZNAME:CEST
DTSTART:20240331T010000
END:DAYLIGHT
BEGIN:STANDARD
TZOFFSETFROM:+0200
TZOFFSETTO:+0100
TZNAME:CET
DTSTART:20241027T010000
END:STANDARD
END:VTIMEZONE
BEGIN:VEVENT
DTSTART;TZID=Europe/Vienna:20231128T160000
DTEND;TZID=Europe/Vienna:20231128T180000
DTSTAMP:20260425T141631
CREATED:20230629T182035Z
LAST-MODIFIED:20240215T100000Z
UID:5795-1701187200-1701194400@schule-kirchberg.at
SUMMARY:Elternsprechtag Mittelschule
DESCRIPTION:
URL:https://schule-kirchberg.at/event/elternsprechtag-mittelschule/
CATEGORIES:MS
END:VEVENT
END:VCALENDAR