BEGIN:VCALENDAR
VERSION:2.0
PRODID:-//SCHULE KIRCHBERG AN DER PIELACH - ECPv6.15.17.1//NONSGML v1.0//EN
CALSCALE:GREGORIAN
METHOD:PUBLISH
X-WR-CALNAME:SCHULE KIRCHBERG AN DER PIELACH
X-ORIGINAL-URL:https://schule-kirchberg.at
X-WR-CALDESC:Veranstaltungen für SCHULE KIRCHBERG AN DER PIELACH
REFRESH-INTERVAL;VALUE=DURATION:PT1H
X-Robots-Tag:noindex
X-PUBLISHED-TTL:PT1H
BEGIN:VTIMEZONE
TZID:Europe/Vienna
BEGIN:DAYLIGHT
TZOFFSETFROM:+0100
TZOFFSETTO:+0200
TZNAME:CEST
DTSTART:20220327T010000
END:DAYLIGHT
BEGIN:STANDARD
TZOFFSETFROM:+0200
TZOFFSETTO:+0100
TZNAME:CET
DTSTART:20221030T010000
END:STANDARD
BEGIN:DAYLIGHT
TZOFFSETFROM:+0100
TZOFFSETTO:+0200
TZNAME:CEST
DTSTART:20230326T010000
END:DAYLIGHT
BEGIN:STANDARD
TZOFFSETFROM:+0200
TZOFFSETTO:+0100
TZNAME:CET
DTSTART:20231029T010000
END:STANDARD
BEGIN:DAYLIGHT
TZOFFSETFROM:+0100
TZOFFSETTO:+0200
TZNAME:CEST
DTSTART:20240331T010000
END:DAYLIGHT
BEGIN:STANDARD
TZOFFSETFROM:+0200
TZOFFSETTO:+0100
TZNAME:CET
DTSTART:20241027T010000
END:STANDARD
END:VTIMEZONE
BEGIN:VEVENT
DTSTART;VALUE=DATE:20231026
DTEND;VALUE=DATE:20231107
DTSTAMP:20260425T185220
CREATED:20230629T182222Z
LAST-MODIFIED:20230629T182222Z
UID:5797-1698307200-1699257599@schule-kirchberg.at
SUMMARY:Herbstferien
DESCRIPTION:26.10. Nationalfeiertag \n27.10. – 31.10. Herbstferien \n1.11. Allerheiligen \n2.11. Allerseelen \n3.11. eventuell schulautonom frei (muss erst im Schulforum abgestimmt werden)
URL:https://schule-kirchberg.at/event/herbstferien/
CATEGORIES:ALLE,MS,PTS,VS
END:VEVENT
END:VCALENDAR