BEGIN:VCALENDAR
VERSION:2.0
PRODID:-//SCHULE KIRCHBERG AN DER PIELACH - ECPv6.15.17.1//NONSGML v1.0//EN
CALSCALE:GREGORIAN
METHOD:PUBLISH
X-ORIGINAL-URL:https://schule-kirchberg.at
X-WR-CALDESC:Veranstaltungen für SCHULE KIRCHBERG AN DER PIELACH
REFRESH-INTERVAL;VALUE=DURATION:PT1H
X-Robots-Tag:noindex
X-PUBLISHED-TTL:PT1H
BEGIN:VTIMEZONE
TZID:Europe/Vienna
BEGIN:DAYLIGHT
TZOFFSETFROM:+0100
TZOFFSETTO:+0200
TZNAME:CEST
DTSTART:20220327T010000
END:DAYLIGHT
BEGIN:STANDARD
TZOFFSETFROM:+0200
TZOFFSETTO:+0100
TZNAME:CET
DTSTART:20221030T010000
END:STANDARD
BEGIN:DAYLIGHT
TZOFFSETFROM:+0100
TZOFFSETTO:+0200
TZNAME:CEST
DTSTART:20230326T010000
END:DAYLIGHT
BEGIN:STANDARD
TZOFFSETFROM:+0200
TZOFFSETTO:+0100
TZNAME:CET
DTSTART:20231029T010000
END:STANDARD
BEGIN:DAYLIGHT
TZOFFSETFROM:+0100
TZOFFSETTO:+0200
TZNAME:CEST
DTSTART:20240331T010000
END:DAYLIGHT
BEGIN:STANDARD
TZOFFSETFROM:+0200
TZOFFSETTO:+0100
TZNAME:CET
DTSTART:20241027T010000
END:STANDARD
END:VTIMEZONE
BEGIN:VEVENT
DTSTART;VALUE=DATE:20231002
DTEND;VALUE=DATE:20231008
DTSTAMP:20260425T210816
CREATED:20230629T181812Z
LAST-MODIFIED:20230629T181931Z
UID:5791-1696233600-1696665599@schule-kirchberg.at
SUMMARY:Schulfotograf
DESCRIPTION:Montag: VS \nDienstag: VS \nMittwoch: MS \nDonnerstag: MS\, PTS (Kirchberg) \nFreitag: PTS (Ober-Grafendorf)
URL:https://schule-kirchberg.at/event/schulfotograf/
CATEGORIES:ALLE,MS,PTS,VS
END:VEVENT
END:VCALENDAR