BEGIN:VCALENDAR
VERSION:2.0
PRODID:-//SCHULE KIRCHBERG AN DER PIELACH - ECPv6.15.17.1//NONSGML v1.0//EN
CALSCALE:GREGORIAN
METHOD:PUBLISH
X-WR-CALNAME:SCHULE KIRCHBERG AN DER PIELACH
X-ORIGINAL-URL:https://schule-kirchberg.at
X-WR-CALDESC:Veranstaltungen für SCHULE KIRCHBERG AN DER PIELACH
REFRESH-INTERVAL;VALUE=DURATION:PT1H
X-Robots-Tag:noindex
X-PUBLISHED-TTL:PT1H
BEGIN:VTIMEZONE
TZID:Europe/Vienna
BEGIN:DAYLIGHT
TZOFFSETFROM:+0100
TZOFFSETTO:+0200
TZNAME:CEST
DTSTART:20220327T010000
END:DAYLIGHT
BEGIN:STANDARD
TZOFFSETFROM:+0200
TZOFFSETTO:+0100
TZNAME:CET
DTSTART:20221030T010000
END:STANDARD
BEGIN:DAYLIGHT
TZOFFSETFROM:+0100
TZOFFSETTO:+0200
TZNAME:CEST
DTSTART:20230326T010000
END:DAYLIGHT
BEGIN:STANDARD
TZOFFSETFROM:+0200
TZOFFSETTO:+0100
TZNAME:CET
DTSTART:20231029T010000
END:STANDARD
BEGIN:DAYLIGHT
TZOFFSETFROM:+0100
TZOFFSETTO:+0200
TZNAME:CEST
DTSTART:20240331T010000
END:DAYLIGHT
BEGIN:STANDARD
TZOFFSETFROM:+0200
TZOFFSETTO:+0100
TZNAME:CET
DTSTART:20241027T010000
END:STANDARD
END:VTIMEZONE
BEGIN:VEVENT
DTSTART;TZID=Europe/Vienna:20230913T173000
DTEND;TZID=Europe/Vienna:20230913T200000
DTSTAMP:20260426T002521
CREATED:20230629T180915Z
LAST-MODIFIED:20230629T180915Z
UID:5779-1694626200-1694635200@schule-kirchberg.at
SUMMARY:Klassenforum Mittelschule 1a
DESCRIPTION:Klassenforum 17:30 – 19:00 \nim Anschluss 19:00 – 20:00 Info-Vortrag der Polizei „Click & Check“ – Sicherheit im Netz (für die Schüler*innen finden die Workshops im Laufe des Schuljahres statt)
URL:https://schule-kirchberg.at/event/klassenforum-mittelschule-1a/
CATEGORIES:MS
END:VEVENT
BEGIN:VEVENT
DTSTART;TZID=Europe/Vienna:20230913T180000
DTEND;TZID=Europe/Vienna:20230913T200000
DTSTAMP:20260426T002521
CREATED:20230629T181309Z
LAST-MODIFIED:20240215T095917Z
UID:5783-1694628000-1694635200@schule-kirchberg.at
SUMMARY:Klassenforen Mittelschule 2a und 2b
DESCRIPTION:Klassenforum 18:00 – 19:00 im Anschluss 19:00 – 20:00 Info-Vortrag der Polizei „Click & Check“ – Sicherheit im Netz (für die Schüler*innen finden die Workshops im Laufe des Schuljahres statt)
URL:https://schule-kirchberg.at/event/klassenforen-mittelschule-2a-und-2b/
CATEGORIES:MS
END:VEVENT
END:VCALENDAR